BEGIN:VCALENDAR
VERSION:2.0
PRODID:-//Gunnar Mossblad - ECPv6.15.13.1//NONSGML v1.0//EN
CALSCALE:GREGORIAN
METHOD:PUBLISH
X-ORIGINAL-URL:http://gunnarmossblad.com/home
X-WR-CALDESC:Events for Gunnar Mossblad
REFRESH-INTERVAL;VALUE=DURATION:PT1H
X-Robots-Tag:noindex
X-PUBLISHED-TTL:PT1H
BEGIN:VTIMEZONE
TZID:UTC
BEGIN:STANDARD
TZOFFSETFROM:+0000
TZOFFSETTO:+0000
TZNAME:UTC
DTSTART:20150101T000000
END:STANDARD
END:VTIMEZONE
BEGIN:VEVENT
DTSTART;TZID=UTC:20160329T193000
DTEND;TZID=UTC:20160329T223000
DTSTAMP:20260423T225915
CREATED:20160313T213247Z
LAST-MODIFIED:20160313T213247Z
UID:308-1459279800-1459290600@gunnarmossblad.com
SUMMARY:UTJazz Night
DESCRIPTION:Gunnar Mossblad & CrossCurrents
URL:http://gunnarmossblad.com/home/event/utjazz-night-2/
LOCATION:Crystal’s Lounge at the Ramada Hotel\, Toledo\, OH
END:VEVENT
BEGIN:VEVENT
DTSTART;TZID=UTC:20160328T193000
DTEND;TZID=UTC:20160328T210000
DTSTAMP:20260423T225915
CREATED:20160313T213127Z
LAST-MODIFIED:20160313T213127Z
UID:306-1459193400-1459198800@gunnarmossblad.com
SUMMARY:UTJazz faculty concert
DESCRIPTION:Gunnar Mossblad & CrossCurrents play the music of Duke Ellington
URL:http://gunnarmossblad.com/home/event/utjazz-faculty-concert/
LOCATION:UT Center for Perfoming Arts – Recital Hall\, Toledo\, 43606
END:VEVENT
BEGIN:VEVENT
DTSTART;TZID=UTC:20160316T150000
DTEND;TZID=UTC:20160316T200000
DTSTAMP:20260423T225915
CREATED:20160313T212516Z
LAST-MODIFIED:20160313T212516Z
UID:302-1458140400-1458158400@gunnarmossblad.com
SUMMARY:Northview High School Jazz Festival
DESCRIPTION:Gunnar Mossblad & CrossCurrents as well as the UT Jazz Ensemble
URL:http://gunnarmossblad.com/home/event/northview-high-school-jazz-festival/
LOCATION:Unnamed Venue\, Sylvania\, Ohio
END:VEVENT
BEGIN:VEVENT
DTSTART;TZID=UTC:20160315T193000
DTEND;TZID=UTC:20160315T223000
DTSTAMP:20260423T225915
CREATED:20160313T212319Z
LAST-MODIFIED:20160313T213356Z
UID:299-1458070200-1458081000@gunnarmossblad.com
SUMMARY:UTJazz Night
DESCRIPTION:Gunnar Mossblad & CrossCurrents
URL:http://gunnarmossblad.com/home/event/utjazz-night/
LOCATION:Crystal’s Lounge at the Ramada Hotel\, Toledo\, OH
ORGANIZER;CN="Unnamed Organizer":MAILTO:gunnar.mossblad@utoledo.edu
END:VEVENT
BEGIN:VEVENT
DTSTART;TZID=UTC:20160313T120000
DTEND;TZID=UTC:20160313T170000
DTSTAMP:20260423T225915
CREATED:20160313T212908Z
LAST-MODIFIED:20160313T212908Z
UID:304-1457870400-1457888400@gunnarmossblad.com
SUMMARY:Kutztown High School Jazz Festival
DESCRIPTION:Gunnar Mossblad-adjudication
URL:http://gunnarmossblad.com/home/event/kutztown-high-school-jazz-festival/
LOCATION:Kutztown HS Jazz Festival\, Kutztown\, PA
END:VEVENT
END:VCALENDAR